BEGIN:VCALENDAR
VERSION:2.0
PRODID:-//Pop Toys - ECPv6.15.20//NONSGML v1.0//EN
CALSCALE:GREGORIAN
METHOD:PUBLISH
X-WR-CALNAME:Pop Toys
X-ORIGINAL-URL:https://pop.toys
X-WR-CALDESC:Events for Pop Toys
REFRESH-INTERVAL;VALUE=DURATION:PT1H
X-Robots-Tag:noindex
X-PUBLISHED-TTL:PT1H
BEGIN:VTIMEZONE
TZID:UTC
BEGIN:STANDARD
TZOFFSETFROM:+0000
TZOFFSETTO:+0000
TZNAME:UTC
DTSTART:20250101T000000
END:STANDARD
END:VTIMEZONE
BEGIN:VEVENT
DTSTART;VALUE=DATE:20260426
DTEND;VALUE=DATE:20260427
DTSTAMP:20260423T185119
CREATED:20260112T233022Z
LAST-MODIFIED:20260226T035656Z
UID:17453-1777161600-1777247999@pop.toys
SUMMARY:Vintage and Modern Toy Fair – Malvern
DESCRIPTION:
URL:https://pop.toys/event/vintage-and-modern-toy-fair-malvern-3/
LOCATION:Malvern Town Hall\, Cnr Glenferrie Rd & High St\, Malvern\, Victoria\, 3144\, Australia
CATEGORIES:Pop Toys on Tour
ATTACH;FMTTYPE=image/jpeg:https://pop.toys/wp-content/uploads/2026/01/VMTF-260426.jpg
END:VEVENT
BEGIN:VEVENT
DTSTART;VALUE=DATE:20260530
DTEND;VALUE=DATE:20260601
DTSTAMP:20260423T185119
CREATED:20260226T031804Z
LAST-MODIFIED:20260226T031804Z
UID:17835-1780099200-1780271999@pop.toys
SUMMARY:Mega Toy Fair – Adelaide
DESCRIPTION:
URL:https://pop.toys/event/mega-toy-fair-adelaide/
LOCATION:Adelaide Showgrounds\, Goodwood Rd Wayville SA 5034\, Australia
CATEGORIES:Pop Toys on Tour
ATTACH;FMTTYPE=image/jpeg:https://pop.toys/wp-content/uploads/2026/02/adelaide_mega_toy_fair.jpg
END:VEVENT
BEGIN:VEVENT
DTSTART;VALUE=DATE:20260606
DTEND;VALUE=DATE:20260608
DTSTAMP:20260423T185119
CREATED:20260112T233617Z
LAST-MODIFIED:20260112T233834Z
UID:17457-1780704000-1780876799@pop.toys
SUMMARY:OzComicCon – Melbourne
DESCRIPTION:
URL:https://pop.toys/event/ozcomiccon-melbourne-2026/
LOCATION:Melbourne Convention and Exhibition Centre\, 1 Convention Centre Pl\, South Wharf\, Victoria\, Melbourne\, 3006\, Australia
CATEGORIES:Pop Toys on Tour
ATTACH;FMTTYPE=image/jpeg:https://pop.toys/wp-content/uploads/2026/01/OzComicCon-2026.jpg
END:VEVENT
BEGIN:VEVENT
DTSTART;VALUE=DATE:20260621
DTEND;VALUE=DATE:20260622
DTSTAMP:20260423T185119
CREATED:20260112T234018Z
LAST-MODIFIED:20260112T234018Z
UID:17460-1782000000-1782086399@pop.toys
SUMMARY:Vintage and Modern Toy Fair – Malvern
DESCRIPTION:
URL:https://pop.toys/event/vintage-and-modern-toy-fair-malvern-4/
LOCATION:Malvern Town Hall\, Cnr Glenferrie Rd & High St\, Malvern\, Victoria\, 3144\, Australia
CATEGORIES:Pop Toys on Tour
ATTACH;FMTTYPE=image/png:https://pop.toys/wp-content/uploads/2019/03/Vintage-and-Modern-Toy-Fair.png
END:VEVENT
BEGIN:VEVENT
DTSTART;VALUE=DATE:20260809
DTEND;VALUE=DATE:20260810
DTSTAMP:20260423T185119
CREATED:20260226T035304Z
LAST-MODIFIED:20260226T035304Z
UID:17839-1786233600-1786319999@pop.toys
SUMMARY:Vintage and Modern Toy Fair Monster Size – Melbourne Showgrounds
DESCRIPTION:Melbourne Showgrounds Epsom Road\, Ascot Vale\, Vic\, Australia
URL:https://pop.toys/event/vintage-and-modern-toy-fair-monster-size-melbourne-showgrounds-2/
LOCATION:Melbourne Showgrounds Epsom Road\, Ascot Vale\, Vic\, Australia
CATEGORIES:Pop Toys on Tour
ATTACH;FMTTYPE=image/jpeg:https://pop.toys/wp-content/uploads/2026/02/FlyerPage2.jpg
END:VEVENT
BEGIN:VEVENT
DTSTART;VALUE=DATE:20261018
DTEND;VALUE=DATE:20261019
DTSTAMP:20260423T185119
CREATED:20260226T035435Z
LAST-MODIFIED:20260226T035435Z
UID:17843-1792281600-1792367999@pop.toys
SUMMARY:Vintage and Modern Toy Fair – Malvern
DESCRIPTION:
URL:https://pop.toys/event/vintage-and-modern-toy-fair-malvern-5/
LOCATION:Malvern Town Hall\, Cnr Glenferrie Rd & High St\, Malvern\, Victoria\, 3144\, Australia
CATEGORIES:Pop Toys on Tour
ATTACH;FMTTYPE=image/png:https://pop.toys/wp-content/uploads/2019/03/Vintage-and-Modern-Toy-Fair.png
END:VEVENT
END:VCALENDAR