BEGIN:VCALENDAR
VERSION:2.0
PRODID:-//Pop Toys - ECPv6.15.20//NONSGML v1.0//EN
CALSCALE:GREGORIAN
METHOD:PUBLISH
X-WR-CALNAME:Pop Toys
X-ORIGINAL-URL:https://pop.toys
X-WR-CALDESC:Events for Pop Toys
REFRESH-INTERVAL;VALUE=DURATION:PT1H
X-Robots-Tag:noindex
X-PUBLISHED-TTL:PT1H
BEGIN:VTIMEZONE
TZID:UTC
BEGIN:STANDARD
TZOFFSETFROM:+0000
TZOFFSETTO:+0000
TZNAME:UTC
DTSTART:20230101T000000
END:STANDARD
END:VTIMEZONE
BEGIN:VEVENT
DTSTART;VALUE=DATE:20260322
DTEND;VALUE=DATE:20260323
DTSTAMP:20260423T190847
CREATED:20260112T232839Z
LAST-MODIFIED:20260112T232839Z
UID:17451-1774137600-1774223999@pop.toys
SUMMARY:Geelong Comic and Toy Fair
DESCRIPTION:
URL:https://pop.toys/event/geelong-comic-and-toy-fair-4/
LOCATION:Norlane ARC Auditorium\, 9 Coxa Rd\, Norlane VIC 3214\, Australia
CATEGORIES:Pop Toys on Tour
ATTACH;FMTTYPE=image/jpeg:https://pop.toys/wp-content/uploads/2025/09/geelong-comic-and-toy-fair.jpg
END:VEVENT
BEGIN:VEVENT
DTSTART;VALUE=DATE:20260222
DTEND;VALUE=DATE:20260223
DTSTAMP:20260423T190847
CREATED:20260112T232615Z
LAST-MODIFIED:20260112T232615Z
UID:17449-1771718400-1771804799@pop.toys
SUMMARY:Vintage and Modern Toy Fair – Malvern
DESCRIPTION:
URL:https://pop.toys/event/vintage-and-modern-toy-fair-malvern-2/
LOCATION:Malvern Town Hall\, Cnr Glenferrie Rd & High St\, Malvern\, Victoria\, 3144\, Australia
CATEGORIES:Pop Toys on Tour
ATTACH;FMTTYPE=image/png:https://pop.toys/wp-content/uploads/2019/03/Vintage-and-Modern-Toy-Fair.png
END:VEVENT
BEGIN:VEVENT
DTSTART;VALUE=DATE:20260117
DTEND;VALUE=DATE:20260119
DTSTAMP:20260423T190847
CREATED:20260112T232254Z
LAST-MODIFIED:20260112T232254Z
UID:17446-1768608000-1768780799@pop.toys
SUMMARY:Brickvention
DESCRIPTION:Brickvention\nJanuary 17 – January 18\, 2025\nRoyal Exhibition Buildings\, Melbourne\nhttps://www.brickvention.melbourne/
URL:https://pop.toys/event/brickvention-4/
LOCATION:Royal Exhibition Buildings\, Melbourne
CATEGORIES:Pop Toys on Tour
ATTACH;FMTTYPE=image/jpeg:https://pop.toys/wp-content/uploads/2026/01/Brickvention-2026.jpg
END:VEVENT
BEGIN:VEVENT
DTSTART;VALUE=DATE:20251026
DTEND;VALUE=DATE:20251027
DTSTAMP:20260423T190847
CREATED:20250903T003810Z
LAST-MODIFIED:20250903T003810Z
UID:16552-1761436800-1761523199@pop.toys
SUMMARY:Geelong Comic and Toy Fair
DESCRIPTION:
URL:https://pop.toys/event/geelong-comic-and-toy-fair-3/
LOCATION:Norlane ARC Auditorium\, 9 Coxa Rd\, Norlane VIC 3214\, Australia
CATEGORIES:Pop Toys on Tour
ATTACH;FMTTYPE=image/jpeg:https://pop.toys/wp-content/uploads/2025/09/geelong-comic-and-toy-fair.jpg
END:VEVENT
BEGIN:VEVENT
DTSTART;VALUE=DATE:20251019
DTEND;VALUE=DATE:20251020
DTSTAMP:20260423T190847
CREATED:20250422T010050Z
LAST-MODIFIED:20250422T010050Z
UID:15923-1760832000-1760918399@pop.toys
SUMMARY:Vintage and Modern Toy Fair – Malvern
DESCRIPTION:
URL:https://pop.toys/event/vintage-and-modern-toy-fair-malvern/
LOCATION:Malvern Town Hall\, Cnr Glenferrie Rd & High St\, Malvern\, Victoria\, 3144\, Australia
CATEGORIES:Pop Toys on Tour
ATTACH;FMTTYPE=image/png:https://pop.toys/wp-content/uploads/2019/03/Vintage-and-Modern-Toy-Fair.png
END:VEVENT
BEGIN:VEVENT
DTSTART;VALUE=DATE:20250920
DTEND;VALUE=DATE:20250922
DTSTAMP:20260423T190847
CREATED:20250216T130452Z
LAST-MODIFIED:20250216T130613Z
UID:15311-1758326400-1758499199@pop.toys
SUMMARY:OzComicCon – Sydney
DESCRIPTION:
URL:https://pop.toys/event/ozcomiccon-sydney-2025/
LOCATION:The Dome\, Sydney Showgrounds 1 Showground Rd\, Sydney Olympic Park NSW 2127\, New South Wales\, Australia
CATEGORIES:Pop Toys on Tour
ATTACH;FMTTYPE=image/jpeg:https://pop.toys/wp-content/uploads/2025/02/2025-OCC-Social-Tile-Sydney-v1-1024x1024-1.jpg
END:VEVENT
BEGIN:VEVENT
DTSTART;VALUE=DATE:20250803
DTEND;VALUE=DATE:20250804
DTSTAMP:20260423T190847
CREATED:20250422T005753Z
LAST-MODIFIED:20250424T004052Z
UID:15921-1754179200-1754265599@pop.toys
SUMMARY:Vintage and Modern Toy Fair Monster Size – Melbourne Showgrounds
DESCRIPTION:Melbourne Showgrounds Epsom Road\, Ascot Vale\, Vic\, Australia
URL:https://pop.toys/event/vintage-and-modern-toy-fair-monster-size-melbourne-showgrounds/
LOCATION:Melbourne Showgrounds\, Epsom Road\, Ascot Vale\, Vic\, Australia
CATEGORIES:Pop Toys on Tour
ATTACH;FMTTYPE=image/webp:https://pop.toys/wp-content/uploads/2025/04/Monster-Size_Flyer1_Insta-1.webp
END:VEVENT
BEGIN:VEVENT
DTSTART;VALUE=DATE:20250727
DTEND;VALUE=DATE:20250728
DTSTAMP:20260423T190847
CREATED:20250424T003553Z
LAST-MODIFIED:20250424T003553Z
UID:15930-1753574400-1753660799@pop.toys
SUMMARY:Geelong Comic and Toy Fair
DESCRIPTION:Geelong Comic and Toy Fair
URL:https://pop.toys/event/geelong-comic-and-toy-fair-2/
LOCATION:Victoria
CATEGORIES:Pop Toys on Tour
ATTACH;FMTTYPE=image/jpeg:https://pop.toys/wp-content/uploads/2024/10/geelong-comic-and-toy-fair.jpg
END:VEVENT
BEGIN:VEVENT
DTSTART;VALUE=DATE:20250705
DTEND;VALUE=DATE:20250707
DTSTAMP:20260423T190847
CREATED:20250216T130049Z
LAST-MODIFIED:20250216T130049Z
UID:15303-1751673600-1751846399@pop.toys
SUMMARY:CollectFest – Melbourne
DESCRIPTION:
URL:https://pop.toys/event/collectfest-melbourne-2025/
LOCATION:Melbourne Convention & Exhibition Centre\, 1 Convention Centre Pl\,\, South Wharf\, VIC\, 3006\, Australia
CATEGORIES:Pop Toys on Tour
ATTACH;FMTTYPE=image/jpeg:https://pop.toys/wp-content/uploads/2025/02/Collectfest_logo.jpg
END:VEVENT
BEGIN:VEVENT
DTSTART;VALUE=DATE:20250622
DTEND;VALUE=DATE:20250623
DTSTAMP:20260423T190847
CREATED:20250216T125837Z
LAST-MODIFIED:20250422T010324Z
UID:15301-1750550400-1750636799@pop.toys
SUMMARY:Vintage and Modern Toy Fair – Malvern
DESCRIPTION:
URL:https://pop.toys/event/vintage-and-modern-toy-fair-malvern-june-2025/
LOCATION:Malvern Town Hall\, Cnr Glenferrie Rd & High St\, Malvern\, Victoria\, 3144\, Australia
CATEGORIES:Pop Toys on Tour
ATTACH;FMTTYPE=image/webp:https://pop.toys/wp-content/uploads/2025/04/JuneInstagramPost-1.webp
END:VEVENT
BEGIN:VEVENT
DTSTART;VALUE=DATE:20250607
DTEND;VALUE=DATE:20250609
DTSTAMP:20260423T190847
CREATED:20250216T125612Z
LAST-MODIFIED:20250216T125709Z
UID:15298-1749254400-1749427199@pop.toys
SUMMARY:OzComicCon – Melbourne
DESCRIPTION:
URL:https://pop.toys/event/ozcomiccon-melbourne-2025/
LOCATION:Melbourne Convention and Exhibition Centre\, 1 Convention Centre Pl\, South Wharf\, Victoria\, Melbourne\, 3006\, Australia
CATEGORIES:Pop Toys on Tour
ATTACH;FMTTYPE=image/jpeg:https://pop.toys/wp-content/uploads/2025/02/IMG_0170.jpg
END:VEVENT
BEGIN:VEVENT
DTSTART;VALUE=DATE:20250531
DTEND;VALUE=DATE:20250602
DTSTAMP:20260423T190847
CREATED:20250216T125505Z
LAST-MODIFIED:20250216T130605Z
UID:15296-1748649600-1748822399@pop.toys
SUMMARY:Mega Toy Fair – Adelaide
DESCRIPTION:
URL:https://pop.toys/event/mega-toy-fair-adelaide-2025/
LOCATION:Adelaide Showgrounds\, Goodwood Rd Wayville\, SA 5034\, Australia
CATEGORIES:Pop Toys on Tour
ATTACH;FMTTYPE=image/png:https://pop.toys/wp-content/uploads/2022/11/Mega_Toy_Fair_2020.png
END:VEVENT
BEGIN:VEVENT
DTSTART;VALUE=DATE:20250413
DTEND;VALUE=DATE:20250414
DTSTAMP:20260423T190847
CREATED:20250216T125348Z
LAST-MODIFIED:20250216T130626Z
UID:15294-1744502400-1744588799@pop.toys
SUMMARY:Geelong Comic and Toy Fair
DESCRIPTION:Geelong West Town Hall\, 153 Pakington St\, Geelong West\, Victoria\, 3218
URL:https://pop.toys/event/geelong-comic-and-toy-fair-2025/
LOCATION:Victoria
CATEGORIES:Pop Toys on Tour
ATTACH;FMTTYPE=image/jpeg:https://pop.toys/wp-content/uploads/2024/10/geelong-comic-and-toy-fair.jpg
END:VEVENT
BEGIN:VEVENT
DTSTART;VALUE=DATE:20250406
DTEND;VALUE=DATE:20250407
DTSTAMP:20260423T190847
CREATED:20250216T125209Z
LAST-MODIFIED:20250217T000811Z
UID:15292-1743897600-1743983999@pop.toys
SUMMARY:Vintage and Modern Toy Fair – Melbourne
DESCRIPTION:
URL:https://pop.toys/event/vintage-and-modern-toy-fair-melbourne-april-2025/
LOCATION:Malvern Town Hall\, Cnr Glenferrie Rd & High St\, Malvern\, Victoria\, 3144\, Australia
CATEGORIES:Pop Toys on Tour
ATTACH;FMTTYPE=image/png:https://pop.toys/wp-content/uploads/2019/03/Vintage-and-Modern-Toy-Fair.png
END:VEVENT
BEGIN:VEVENT
DTSTART;VALUE=DATE:20250216
DTEND;VALUE=DATE:20250217
DTSTAMP:20260423T190847
CREATED:20241218T234252Z
LAST-MODIFIED:20241218T234501Z
UID:14949-1739664000-1739750399@pop.toys
SUMMARY:Giant-Size Vintage and Modern Toy Fair – Caulfield Racecourse\, Victoria
DESCRIPTION:
URL:https://pop.toys/event/giant-size-vintage-and-modern-toy-fair-caulfield-racecourse-victoria-3/
LOCATION:Caulfield\, Caulfield Racecourse\, Station St\, Caulfield East\, Victoria\, 3145
CATEGORIES:Pop Toys on Tour
ATTACH;FMTTYPE=image/jpeg:https://pop.toys/wp-content/uploads/2024/12/GiantSizeFlyerFeb25-Large.jpeg
END:VEVENT
BEGIN:VEVENT
DTSTART;VALUE=DATE:20250118
DTEND;VALUE=DATE:20250120
DTSTAMP:20260423T190847
CREATED:20241218T234101Z
LAST-MODIFIED:20241218T234431Z
UID:14945-1737158400-1737331199@pop.toys
SUMMARY:Brickvention
DESCRIPTION:Brickvention\nJanuary 18 – January 19\, 2025\nRoyal Exhibition Buildings\, Melbourne\nhttps://www.brickvention.melbourne/
URL:https://pop.toys/event/brickvention-3/
LOCATION:Royal Exhibition Buildings\, Melbourne
CATEGORIES:Pop Toys on Tour
ATTACH;FMTTYPE=image/png:https://pop.toys/wp-content/uploads/2024/12/Vendor-Tile-Transparent.png
END:VEVENT
BEGIN:VEVENT
DTSTART;VALUE=DATE:20241020
DTEND;VALUE=DATE:20241021
DTSTAMP:20260423T190847
CREATED:20240129T132625Z
LAST-MODIFIED:20240129T132737Z
UID:12071-1729382400-1729468799@pop.toys
SUMMARY:Vintage and Modern Toy Fair - Melbourne
DESCRIPTION:
URL:https://pop.toys/event/vintage-and-modern-toy-fair-melbourne-6-3/
LOCATION:Malvern Town Hall\, Cnr Glenferrie Rd & High St\, Malvern\, Victoria\, 3144\, Australia
CATEGORIES:Pop Toys on Tour
ATTACH;FMTTYPE=image/png:https://pop.toys/wp-content/uploads/2019/03/Vintage-and-Modern-Toy-Fair.png
END:VEVENT
BEGIN:VEVENT
DTSTART;VALUE=DATE:20241013
DTEND;VALUE=DATE:20241014
DTSTAMP:20260423T190847
CREATED:20240930T160328Z
LAST-MODIFIED:20240930T160614Z
UID:14252-1728777600-1728863999@pop.toys
SUMMARY:Geelong Comic and Toy Fair
DESCRIPTION:Geelong West Town Hall\, 153 Pakington St\, Geelong West\, Victoria\, 3218
URL:https://pop.toys/event/geelong-comic-and-toy-fair/
LOCATION:Victoria
CATEGORIES:Pop Toys on Tour
ATTACH;FMTTYPE=image/jpeg:https://pop.toys/wp-content/uploads/2024/10/geelong-comic-and-toy-fair.jpg
END:VEVENT
BEGIN:VEVENT
DTSTART;VALUE=DATE:20240921
DTEND;VALUE=DATE:20240923
DTSTAMP:20260423T190847
CREATED:20240829T144648Z
LAST-MODIFIED:20240902T185658Z
UID:13761-1726876800-1727049599@pop.toys
SUMMARY:OzComicCon – Sydney
DESCRIPTION:
URL:https://pop.toys/event/ozcomiccon-sydney/
LOCATION:The Dome\, Sydney Showgrounds 1 Showground Rd\, Sydney Olympic Park NSW 2127\, New South Wales\, Australia
CATEGORIES:Pop Toys on Tour
ATTACH;FMTTYPE=image/png:https://pop.toys/wp-content/uploads/2024/08/OzComicCon-1.png
END:VEVENT
BEGIN:VEVENT
DTSTART;VALUE=DATE:20240825
DTEND;VALUE=DATE:20240826
DTSTAMP:20260423T190847
CREATED:20230807T141152Z
LAST-MODIFIED:20240129T163307Z
UID:12080-1724544000-1724630399@pop.toys
SUMMARY:Bendicon - Bendigo\, Victoria
DESCRIPTION:
URL:https://pop.toys/event/bendicon-bendigo-victoria-2/
LOCATION:Red Energy Arena\, 91 Inglis St\, West Bendigo\, Victoria\, 3550\, Australia
CATEGORIES:Pop Toys on Tour
ATTACH;FMTTYPE=image/png:https://pop.toys/wp-content/uploads/2023/08/Bendicon-2024.png
END:VEVENT
BEGIN:VEVENT
DTSTART;VALUE=DATE:20240811
DTEND;VALUE=DATE:20240812
DTSTAMP:20260423T190847
CREATED:20240709T155015Z
LAST-MODIFIED:20240709T155336Z
UID:13260-1723334400-1723420799@pop.toys
SUMMARY:Giant-Size Vintage and Modern Toy Fair – Caulfield Racecourse\, Victoria
DESCRIPTION:
URL:https://pop.toys/event/giant-size-vintage-and-modern-toy-fair-caulfield-racecourse-victoria-2/
LOCATION:Caulfield\, Caulfield Racecourse\, Station St\, Caulfield East\, Victoria\, 3145
CATEGORIES:Pop Toys on Tour
ATTACH;FMTTYPE=image/webp:https://pop.toys/wp-content/uploads/2023/08/VMTF-Aug2024-Flyer.webp
END:VEVENT
BEGIN:VEVENT
DTSTART;VALUE=DATE:20240713
DTEND;VALUE=DATE:20240715
DTSTAMP:20260423T190847
CREATED:20230615T191854Z
LAST-MODIFIED:20240129T163004Z
UID:12078-1720828800-1721001599@pop.toys
SUMMARY:Metro Comic Con - Melbourne
DESCRIPTION:
URL:https://pop.toys/event/metro-comic-con-melbourne-2/
LOCATION:Melbourne Showgrounds\, Epsom Road\, Ascot Vale\, Vic\, Australia
CATEGORIES:Pop Toys on Tour
ATTACH;FMTTYPE=image/jpeg:https://pop.toys/wp-content/uploads/2023/06/Pop-Up-toys.jpg
END:VEVENT
BEGIN:VEVENT
DTSTART;VALUE=DATE:20240623
DTEND;VALUE=DATE:20240624
DTSTAMP:20260423T190847
CREATED:20240129T132625Z
LAST-MODIFIED:20240129T132705Z
UID:12069-1719100800-1719187199@pop.toys
SUMMARY:Vintage and Modern Toy Fair - Melbourne
DESCRIPTION:
URL:https://pop.toys/event/vintage-and-modern-toy-fair-melbourne-6-2/
LOCATION:Malvern Town Hall\, Cnr Glenferrie Rd & High St\, Malvern\, Victoria\, 3144\, Australia
CATEGORIES:Pop Toys on Tour
ATTACH;FMTTYPE=image/png:https://pop.toys/wp-content/uploads/2019/03/Vintage-and-Modern-Toy-Fair.png
END:VEVENT
BEGIN:VEVENT
DTSTART;VALUE=DATE:20240608
DTEND;VALUE=DATE:20240610
DTSTAMP:20260423T190847
CREATED:20221127T161118Z
LAST-MODIFIED:20240129T162833Z
UID:12075-1717804800-1717977599@pop.toys
SUMMARY:OzComicCon – Melbourne
DESCRIPTION:
URL:https://pop.toys/event/ozcomiccon-melbourne-2/
LOCATION:Melbourne Convention and Exhibition Centre\, 1 Convention Centre Pl\, South Wharf\, Victoria\, Melbourne\, 3006\, Australia
CATEGORIES:Pop Toys on Tour
ATTACH;FMTTYPE=image/png:https://pop.toys/wp-content/uploads/2022/11/OzComicCon2024.png
END:VEVENT
BEGIN:VEVENT
DTSTART;VALUE=DATE:20240601
DTEND;VALUE=DATE:20240603
DTSTAMP:20260423T190847
CREATED:20221127T161118Z
LAST-MODIFIED:20240129T133150Z
UID:12073-1717200000-1717372799@pop.toys
SUMMARY:Mega Toy Fair - Adelaide
DESCRIPTION:
URL:https://pop.toys/event/vintage-and-modern-toy-fair-melbourne-5-2-2/
LOCATION:Adelaide Showgrounds\, Goodwood Rd Wayville\, SA 5034\, Australia
CATEGORIES:Pop Toys on Tour
ATTACH;FMTTYPE=image/png:https://pop.toys/wp-content/uploads/2022/11/Mega_Toy_Fair_2020.png
END:VEVENT
BEGIN:VEVENT
DTSTART;TZID=UTC:20240504T090000
DTEND;TZID=UTC:20240505T140000
DTSTAMP:20260423T190847
CREATED:20240421T144746Z
LAST-MODIFIED:20240421T144832Z
UID:12590-1714813200-1714917600@pop.toys
SUMMARY:Collectables Fair – Bendigo
DESCRIPTION:
URL:https://pop.toys/event/collectables-fair-bendigo/
LOCATION:Bendigo showgrounds\, Prince of Wales Showgrounds\, Bendigo\, 3550\, Australia
CATEGORIES:Pop Toys on Tour
ATTACH;FMTTYPE=image/jpeg:https://pop.toys/wp-content/uploads/2024/04/BendigoCollectablesFair2024_web.jpg
END:VEVENT
BEGIN:VEVENT
DTSTART;VALUE=DATE:20240428
DTEND;VALUE=DATE:20240429
DTSTAMP:20260423T190847
CREATED:20240129T132625Z
LAST-MODIFIED:20240129T132625Z
UID:12067-1714262400-1714348799@pop.toys
SUMMARY:Vintage and Modern Toy Fair - Melbourne
DESCRIPTION:
URL:https://pop.toys/event/vintage-and-modern-toy-fair-melbourne-6/
LOCATION:Malvern Town Hall\, Cnr Glenferrie Rd & High St\, Malvern\, Victoria\, 3144\, Australia
CATEGORIES:Pop Toys on Tour
ATTACH;FMTTYPE=image/png:https://pop.toys/wp-content/uploads/2019/03/Vintage-and-Modern-Toy-Fair.png
END:VEVENT
BEGIN:VEVENT
DTSTART;VALUE=DATE:20240406
DTEND;VALUE=DATE:20240408
DTSTAMP:20260423T190847
CREATED:20190821T200212Z
LAST-MODIFIED:20240305T101815Z
UID:5277-1712361600-1712534399@pop.toys
SUMMARY:Supanova Melbourne
DESCRIPTION:
URL:https://pop.toys/event/supanova-melbourne/
LOCATION:Melbourne Showgrounds\, Epsom Road\, Ascot Vale\, Vic\, Australia
CATEGORIES:Pop Toys on Tour
ATTACH;FMTTYPE=image/png:https://pop.toys/wp-content/uploads/2019/03/supernova.png
END:VEVENT
BEGIN:VEVENT
DTSTART;VALUE=DATE:20240218
DTEND;VALUE=DATE:20240219
DTSTAMP:20260423T190847
CREATED:20231219T140419Z
LAST-MODIFIED:20231219T140631Z
UID:11869-1708214400-1708300799@pop.toys
SUMMARY:Giant-Size Vintage and Modern Toy Fair - Caulfield Racecourse\, Victoria
DESCRIPTION:
URL:https://pop.toys/event/giant-size-vintage-and-modern-toy-fair-caulfield-racecourse-victoria/
LOCATION:Caulfield\, Caulfield Racecourse\, Station St\, Caulfield East\, Victoria\, 3145
CATEGORIES:Pop Toys on Tour
ATTACH;FMTTYPE=image/png:https://pop.toys/wp-content/uploads/2023/12/Vintage-and-Modern-Toy-Fair-1.png
END:VEVENT
BEGIN:VEVENT
DTSTART;VALUE=DATE:20240120
DTEND;VALUE=DATE:20240122
DTSTAMP:20260423T190847
CREATED:20231219T141020Z
LAST-MODIFIED:20231219T141050Z
UID:11873-1705708800-1705881599@pop.toys
SUMMARY:Brickvention
DESCRIPTION:Brickvention\nJanuary 20 – January 21\, 2024\nRoyal Exhibition Buildings\, Melbourne \nHomepage
URL:https://pop.toys/event/brickvention-2/
LOCATION:Royal Exhibition Buildings\, Melbourne
CATEGORIES:Pop Toys on Tour
ATTACH;FMTTYPE=image/png:https://pop.toys/wp-content/uploads/2023/12/Vendor-Transparent-Background-1.png
END:VEVENT
END:VCALENDAR