BEGIN:VCALENDAR
VERSION:2.0
PRODID:-//Pop Toys - ECPv6.15.20//NONSGML v1.0//EN
CALSCALE:GREGORIAN
METHOD:PUBLISH
X-WR-CALNAME:Pop Toys
X-ORIGINAL-URL:https://pop.toys
X-WR-CALDESC:Events for Pop Toys
REFRESH-INTERVAL;VALUE=DURATION:PT1H
X-Robots-Tag:noindex
X-PUBLISHED-TTL:PT1H
BEGIN:VTIMEZONE
TZID:UTC
BEGIN:STANDARD
TZOFFSETFROM:+0000
TZOFFSETTO:+0000
TZNAME:UTC
DTSTART:20210101T000000
END:STANDARD
END:VTIMEZONE
BEGIN:VEVENT
DTSTART;VALUE=DATE:20240921
DTEND;VALUE=DATE:20240923
DTSTAMP:20260424T000457
CREATED:20240829T144648Z
LAST-MODIFIED:20240902T185658Z
UID:13761-1726876800-1727049599@pop.toys
SUMMARY:OzComicCon – Sydney
DESCRIPTION:
URL:https://pop.toys/event/ozcomiccon-sydney/
LOCATION:The Dome\, Sydney Showgrounds 1 Showground Rd\, Sydney Olympic Park NSW 2127\, New South Wales\, Australia
CATEGORIES:Pop Toys on Tour
ATTACH;FMTTYPE=image/png:https://pop.toys/wp-content/uploads/2024/08/OzComicCon-1.png
END:VEVENT
BEGIN:VEVENT
DTSTART;VALUE=DATE:20240825
DTEND;VALUE=DATE:20240826
DTSTAMP:20260424T000457
CREATED:20230807T141152Z
LAST-MODIFIED:20240129T163307Z
UID:12080-1724544000-1724630399@pop.toys
SUMMARY:Bendicon - Bendigo\, Victoria
DESCRIPTION:
URL:https://pop.toys/event/bendicon-bendigo-victoria-2/
LOCATION:Red Energy Arena\, 91 Inglis St\, West Bendigo\, Victoria\, 3550\, Australia
CATEGORIES:Pop Toys on Tour
ATTACH;FMTTYPE=image/png:https://pop.toys/wp-content/uploads/2023/08/Bendicon-2024.png
END:VEVENT
BEGIN:VEVENT
DTSTART;VALUE=DATE:20240811
DTEND;VALUE=DATE:20240812
DTSTAMP:20260424T000457
CREATED:20240709T155015Z
LAST-MODIFIED:20240709T155336Z
UID:13260-1723334400-1723420799@pop.toys
SUMMARY:Giant-Size Vintage and Modern Toy Fair – Caulfield Racecourse\, Victoria
DESCRIPTION:
URL:https://pop.toys/event/giant-size-vintage-and-modern-toy-fair-caulfield-racecourse-victoria-2/
LOCATION:Caulfield\, Caulfield Racecourse\, Station St\, Caulfield East\, Victoria\, 3145
CATEGORIES:Pop Toys on Tour
ATTACH;FMTTYPE=image/webp:https://pop.toys/wp-content/uploads/2023/08/VMTF-Aug2024-Flyer.webp
END:VEVENT
BEGIN:VEVENT
DTSTART;VALUE=DATE:20240713
DTEND;VALUE=DATE:20240715
DTSTAMP:20260424T000457
CREATED:20230615T191854Z
LAST-MODIFIED:20240129T163004Z
UID:12078-1720828800-1721001599@pop.toys
SUMMARY:Metro Comic Con - Melbourne
DESCRIPTION:
URL:https://pop.toys/event/metro-comic-con-melbourne-2/
LOCATION:Melbourne Showgrounds\, Epsom Road\, Ascot Vale\, Vic\, Australia
CATEGORIES:Pop Toys on Tour
ATTACH;FMTTYPE=image/jpeg:https://pop.toys/wp-content/uploads/2023/06/Pop-Up-toys.jpg
END:VEVENT
BEGIN:VEVENT
DTSTART;VALUE=DATE:20240623
DTEND;VALUE=DATE:20240624
DTSTAMP:20260424T000457
CREATED:20240129T132625Z
LAST-MODIFIED:20240129T132705Z
UID:12069-1719100800-1719187199@pop.toys
SUMMARY:Vintage and Modern Toy Fair - Melbourne
DESCRIPTION:
URL:https://pop.toys/event/vintage-and-modern-toy-fair-melbourne-6-2/
LOCATION:Malvern Town Hall\, Cnr Glenferrie Rd & High St\, Malvern\, Victoria\, 3144\, Australia
CATEGORIES:Pop Toys on Tour
ATTACH;FMTTYPE=image/png:https://pop.toys/wp-content/uploads/2019/03/Vintage-and-Modern-Toy-Fair.png
END:VEVENT
BEGIN:VEVENT
DTSTART;VALUE=DATE:20240608
DTEND;VALUE=DATE:20240610
DTSTAMP:20260424T000457
CREATED:20221127T161118Z
LAST-MODIFIED:20240129T162833Z
UID:12075-1717804800-1717977599@pop.toys
SUMMARY:OzComicCon – Melbourne
DESCRIPTION:
URL:https://pop.toys/event/ozcomiccon-melbourne-2/
LOCATION:Melbourne Convention and Exhibition Centre\, 1 Convention Centre Pl\, South Wharf\, Victoria\, Melbourne\, 3006\, Australia
CATEGORIES:Pop Toys on Tour
ATTACH;FMTTYPE=image/png:https://pop.toys/wp-content/uploads/2022/11/OzComicCon2024.png
END:VEVENT
BEGIN:VEVENT
DTSTART;VALUE=DATE:20240601
DTEND;VALUE=DATE:20240603
DTSTAMP:20260424T000457
CREATED:20221127T161118Z
LAST-MODIFIED:20240129T133150Z
UID:12073-1717200000-1717372799@pop.toys
SUMMARY:Mega Toy Fair - Adelaide
DESCRIPTION:
URL:https://pop.toys/event/vintage-and-modern-toy-fair-melbourne-5-2-2/
LOCATION:Adelaide Showgrounds\, Goodwood Rd Wayville\, SA 5034\, Australia
CATEGORIES:Pop Toys on Tour
ATTACH;FMTTYPE=image/png:https://pop.toys/wp-content/uploads/2022/11/Mega_Toy_Fair_2020.png
END:VEVENT
BEGIN:VEVENT
DTSTART;TZID=UTC:20240504T090000
DTEND;TZID=UTC:20240505T140000
DTSTAMP:20260424T000457
CREATED:20240421T144746Z
LAST-MODIFIED:20240421T144832Z
UID:12590-1714813200-1714917600@pop.toys
SUMMARY:Collectables Fair – Bendigo
DESCRIPTION:
URL:https://pop.toys/event/collectables-fair-bendigo/
LOCATION:Bendigo showgrounds\, Prince of Wales Showgrounds\, Bendigo\, 3550\, Australia
CATEGORIES:Pop Toys on Tour
ATTACH;FMTTYPE=image/jpeg:https://pop.toys/wp-content/uploads/2024/04/BendigoCollectablesFair2024_web.jpg
END:VEVENT
BEGIN:VEVENT
DTSTART;VALUE=DATE:20240428
DTEND;VALUE=DATE:20240429
DTSTAMP:20260424T000457
CREATED:20240129T132625Z
LAST-MODIFIED:20240129T132625Z
UID:12067-1714262400-1714348799@pop.toys
SUMMARY:Vintage and Modern Toy Fair - Melbourne
DESCRIPTION:
URL:https://pop.toys/event/vintage-and-modern-toy-fair-melbourne-6/
LOCATION:Malvern Town Hall\, Cnr Glenferrie Rd & High St\, Malvern\, Victoria\, 3144\, Australia
CATEGORIES:Pop Toys on Tour
ATTACH;FMTTYPE=image/png:https://pop.toys/wp-content/uploads/2019/03/Vintage-and-Modern-Toy-Fair.png
END:VEVENT
BEGIN:VEVENT
DTSTART;VALUE=DATE:20240406
DTEND;VALUE=DATE:20240408
DTSTAMP:20260424T000457
CREATED:20190821T200212Z
LAST-MODIFIED:20240305T101815Z
UID:5277-1712361600-1712534399@pop.toys
SUMMARY:Supanova Melbourne
DESCRIPTION:
URL:https://pop.toys/event/supanova-melbourne/
LOCATION:Melbourne Showgrounds\, Epsom Road\, Ascot Vale\, Vic\, Australia
CATEGORIES:Pop Toys on Tour
ATTACH;FMTTYPE=image/png:https://pop.toys/wp-content/uploads/2019/03/supernova.png
END:VEVENT
BEGIN:VEVENT
DTSTART;VALUE=DATE:20240218
DTEND;VALUE=DATE:20240219
DTSTAMP:20260424T000457
CREATED:20231219T140419Z
LAST-MODIFIED:20231219T140631Z
UID:11869-1708214400-1708300799@pop.toys
SUMMARY:Giant-Size Vintage and Modern Toy Fair - Caulfield Racecourse\, Victoria
DESCRIPTION:
URL:https://pop.toys/event/giant-size-vintage-and-modern-toy-fair-caulfield-racecourse-victoria/
LOCATION:Caulfield\, Caulfield Racecourse\, Station St\, Caulfield East\, Victoria\, 3145
CATEGORIES:Pop Toys on Tour
ATTACH;FMTTYPE=image/png:https://pop.toys/wp-content/uploads/2023/12/Vintage-and-Modern-Toy-Fair-1.png
END:VEVENT
BEGIN:VEVENT
DTSTART;VALUE=DATE:20240120
DTEND;VALUE=DATE:20240122
DTSTAMP:20260424T000457
CREATED:20231219T141020Z
LAST-MODIFIED:20231219T141050Z
UID:11873-1705708800-1705881599@pop.toys
SUMMARY:Brickvention
DESCRIPTION:Brickvention\nJanuary 20 – January 21\, 2024\nRoyal Exhibition Buildings\, Melbourne\nhttps://www.brickvention.melbourne/
URL:https://pop.toys/event/brickvention-2/
LOCATION:Royal Exhibition Buildings\, Melbourne
CATEGORIES:Pop Toys on Tour
ATTACH;FMTTYPE=image/png:https://pop.toys/wp-content/uploads/2023/12/Vendor-Transparent-Background-1.png
END:VEVENT
BEGIN:VEVENT
DTSTART;VALUE=DATE:20231022
DTEND;VALUE=DATE:20231023
DTSTAMP:20260424T000457
CREATED:20221127T161118Z
LAST-MODIFIED:20221129T154357Z
UID:9522-1697932800-1698019199@pop.toys
SUMMARY:Vintage and Modern Toy Fair - Melbourne
DESCRIPTION:
URL:https://pop.toys/event/vintage-and-modern-toy-fair-melbourne-5/
LOCATION:Malvern Town Hall\, Cnr Glenferrie Rd & High St\, Malvern\, Victoria\, 3144\, Australia
CATEGORIES:Pop Toys on Tour
ATTACH;FMTTYPE=image/png:https://pop.toys/wp-content/uploads/2019/03/Vintage-and-Modern-Toy-Fair.png
END:VEVENT
BEGIN:VEVENT
DTSTART;VALUE=DATE:20230827
DTEND;VALUE=DATE:20230828
DTSTAMP:20260424T000457
CREATED:20230807T141152Z
LAST-MODIFIED:20230824T191712Z
UID:10683-1693094400-1693180799@pop.toys
SUMMARY:Bendicon - Bendigo\, Victoria
DESCRIPTION:
URL:https://pop.toys/event/bendicon-bendigo-victoria/
LOCATION:Red Energy Arena\, 91 Inglis St\, West Bendigo\, Victoria\, 3550\, Australia
CATEGORIES:Pop Toys on Tour
ATTACH;FMTTYPE=image/jpeg:https://pop.toys/wp-content/uploads/2023/08/BendiCon23_Flyer.jpg
END:VEVENT
BEGIN:VEVENT
DTSTART;VALUE=DATE:20230813
DTEND;VALUE=DATE:20230814
DTSTAMP:20260424T000457
CREATED:20221127T161118Z
LAST-MODIFIED:20230605T155845Z
UID:9523-1691884800-1691971199@pop.toys
SUMMARY:Giant-Size Vintage and Modern Toy Fair - Caulfield Racecourse\, Victoria
DESCRIPTION:
URL:https://pop.toys/event/vintage-and-modern-toy-fair-melbourne-4/
LOCATION:Caulfield\, Caulfield Racecourse\, Station St\, Caulfield East\, Victoria\, 3145
CATEGORIES:Pop Toys on Tour
ATTACH;FMTTYPE=image/png:https://pop.toys/wp-content/uploads/2019/03/Vintage-and-Modern-Toy-Fair.png
END:VEVENT
BEGIN:VEVENT
DTSTART;VALUE=DATE:20230708
DTEND;VALUE=DATE:20230710
DTSTAMP:20260424T000457
CREATED:20230615T191854Z
LAST-MODIFIED:20230618T203552Z
UID:10459-1688774400-1688947199@pop.toys
SUMMARY:Metro Comic Con - Melbourne
DESCRIPTION:
URL:https://pop.toys/event/metro-comic-con-melbourne/
LOCATION:Melbourne Showgrounds\, Epsom Road\, Ascot Vale\, Vic\, Australia
CATEGORIES:Pop Toys on Tour
ATTACH;FMTTYPE=image/jpeg:https://pop.toys/wp-content/uploads/2023/06/Pop-Up-toys.jpg
END:VEVENT
BEGIN:VEVENT
DTSTART;VALUE=DATE:20230625
DTEND;VALUE=DATE:20230626
DTSTAMP:20260424T000457
CREATED:20221127T161118Z
LAST-MODIFIED:20221129T154242Z
UID:9524-1687651200-1687737599@pop.toys
SUMMARY:Vintage and Modern Toy Fair - Melbourne
DESCRIPTION:
URL:https://pop.toys/event/vintage-and-modern-toy-fair-melbourne-3/
LOCATION:Malvern Town Hall\, Cnr Glenferrie Rd & High St\, Malvern\, Victoria\, 3144\, Australia
CATEGORIES:Pop Toys on Tour
ATTACH;FMTTYPE=image/png:https://pop.toys/wp-content/uploads/2019/03/Vintage-and-Modern-Toy-Fair.png
END:VEVENT
BEGIN:VEVENT
DTSTART;VALUE=DATE:20230610
DTEND;VALUE=DATE:20230612
DTSTAMP:20260424T000457
CREATED:20221127T161118Z
LAST-MODIFIED:20230321T193954Z
UID:9958-1686355200-1686527999@pop.toys
SUMMARY:OzComicCon – Melbourne
DESCRIPTION:
URL:https://pop.toys/event/ozcomiccon-melbourne/
LOCATION:Melbourne Convention and Exhibition Centre\, 1 Convention Centre Pl\, South Wharf\, Victoria\, Melbourne\, 3006\, Australia
CATEGORIES:Pop Toys on Tour
ATTACH;FMTTYPE=image/png:https://pop.toys/wp-content/uploads/2022/11/OCCM_Logo_2023.png
END:VEVENT
BEGIN:VEVENT
DTSTART;VALUE=DATE:20230603
DTEND;VALUE=DATE:20230605
DTSTAMP:20260424T000457
CREATED:20221127T161118Z
LAST-MODIFIED:20230321T193657Z
UID:9954-1685750400-1685923199@pop.toys
SUMMARY:Mega Toy Fair - Adelaide
DESCRIPTION:
URL:https://pop.toys/event/vintage-and-modern-toy-fair-melbourne-5-2/
LOCATION:Adelaide Showgrounds\, Goodwood Rd Wayville\, SA 5034\, Australia
CATEGORIES:Pop Toys on Tour
ATTACH;FMTTYPE=image/png:https://pop.toys/wp-content/uploads/2022/11/Mega_Toy_Fair_2020.png
END:VEVENT
BEGIN:VEVENT
DTSTART;VALUE=DATE:20230430
DTEND;VALUE=DATE:20230501
DTSTAMP:20260424T000457
CREATED:20221127T161118Z
LAST-MODIFIED:20221129T154218Z
UID:9525-1682812800-1682899199@pop.toys
SUMMARY:Vintage and Modern Toy Fair - Melbourne
DESCRIPTION:
URL:https://pop.toys/event/vintage-and-modern-toy-fair-melbourne-2/
LOCATION:Malvern Town Hall\, Cnr Glenferrie Rd & High St\, Malvern\, Victoria\, 3144\, Australia
CATEGORIES:Pop Toys on Tour
ATTACH;FMTTYPE=image/png:https://pop.toys/wp-content/uploads/2019/03/Vintage-and-Modern-Toy-Fair.png
END:VEVENT
BEGIN:VEVENT
DTSTART;VALUE=DATE:20230305
DTEND;VALUE=DATE:20230306
DTSTAMP:20260424T000457
CREATED:20190327T162350Z
LAST-MODIFIED:20221129T154454Z
UID:8391-1677974400-1678060799@pop.toys
SUMMARY:ComiXpo 10 - Melbourne
DESCRIPTION:
URL:https://pop.toys/event/comixpo-10-melbourne/
LOCATION:The Whitehorse Club and Convention Centre\, 298-336 Burwood Highway\, Burwood East\, VIC\, 3151\, Australia
CATEGORIES:Pop Toys on Tour
ATTACH;FMTTYPE=image/png:https://pop.toys/wp-content/uploads/2019/03/ComiXpo_01.png
END:VEVENT
BEGIN:VEVENT
DTSTART;VALUE=DATE:20230226
DTEND;VALUE=DATE:20230227
DTSTAMP:20260424T000457
CREATED:20221127T161118Z
LAST-MODIFIED:20221129T154048Z
UID:6866-1677369600-1677455999@pop.toys
SUMMARY:Vintage and Modern Toy Fair - Melbourne
DESCRIPTION:
URL:https://pop.toys/event/vintage-and-modern-toy-fair-melbourne/
LOCATION:Malvern Town Hall\, Cnr Glenferrie Rd & High St\, Malvern\, Victoria\, 3144\, Australia
CATEGORIES:Pop Toys on Tour
ATTACH;FMTTYPE=image/png:https://pop.toys/wp-content/uploads/2019/03/Vintage-and-Modern-Toy-Fair.png
END:VEVENT
BEGIN:VEVENT
DTSTART;VALUE=DATE:20230121
DTEND;VALUE=DATE:20230123
DTSTAMP:20260424T000457
CREATED:20221127T155220Z
LAST-MODIFIED:20221207T150319Z
UID:7629-1674259200-1674431999@pop.toys
SUMMARY:Brickvention
DESCRIPTION:Brickvention\nJanuary 21 – January 22. 2023\nRoyal Exhibition Buildings\, Melbourne\nhttps://www.brickvention.melbourne/
URL:https://pop.toys/event/brickvention-2022/
LOCATION:Royal Exhibition Buildings\, Melbourne
CATEGORIES:Pop Toys on Tour
ATTACH;FMTTYPE=image/jpeg:https://pop.toys/wp-content/uploads/2022/11/brickvention001.jpg
END:VEVENT
BEGIN:VEVENT
DTSTART;VALUE=DATE:20221210
DTEND;VALUE=DATE:20221212
DTSTAMP:20260424T000457
CREATED:20221127T130050Z
LAST-MODIFIED:20221207T145926Z
UID:8384-1670630400-1670803199@pop.toys
SUMMARY:Oz Comic Con Xmas Edition Melbourne
DESCRIPTION:Oz Comic Con Xmas Edition Melbourne\nDecember 10 – December 11 2022\nMelbourne Showgrounds \nA Front Page
URL:https://pop.toys/event/oz-comic-con-xmas-edition-melbourne/
LOCATION:Melbourne Showgrounds\, Epsom Road\, Ascot Vale\, Vic\, Australia
CATEGORIES:Pop Toys on Tour
ATTACH;FMTTYPE=image/jpeg:https://pop.toys/wp-content/uploads/2022/11/comic-1.jpg
END:VEVENT
BEGIN:VEVENT
DTSTART;VALUE=DATE:20220807
DTEND;VALUE=DATE:20220808
DTSTAMP:20260424T000457
CREATED:20190327T161118Z
LAST-MODIFIED:20220508T204811Z
UID:8404-1659830400-1659916799@pop.toys
SUMMARY:Vintage and Modern Toy Fair - Melbourne
DESCRIPTION:
URL:https://pop.toys/event/4862-2-2-3-3-2-3-2/
LOCATION:Malvern Town Hall\, Cnr Glenferrie Rd & High St\, Malvern\, Victoria\, 3144\, Australia
CATEGORIES:Pop Toys on Tour
ATTACH;FMTTYPE=image/png:https://pop.toys/wp-content/uploads/2019/03/Vintage-and-Modern-Toy-Fair.png
END:VEVENT
BEGIN:VEVENT
DTSTART;VALUE=DATE:20220626
DTEND;VALUE=DATE:20220627
DTSTAMP:20260424T000457
CREATED:20190327T161118Z
LAST-MODIFIED:20220505T195940Z
UID:8389-1656201600-1656287999@pop.toys
SUMMARY:Vintage and Modern Toy Fair - Melbourne
DESCRIPTION:
URL:https://pop.toys/event/4862-2-2-3-3-2-3/
LOCATION:Malvern Town Hall\, Cnr Glenferrie Rd & High St\, Malvern\, Victoria\, 3144\, Australia
CATEGORIES:Pop Toys on Tour
ATTACH;FMTTYPE=image/png:https://pop.toys/wp-content/uploads/2019/03/Vintage-and-Modern-Toy-Fair.png
END:VEVENT
BEGIN:VEVENT
DTSTART;VALUE=DATE:20220604
DTEND;VALUE=DATE:20220606
DTSTAMP:20260424T000457
CREATED:20200301T172904Z
LAST-MODIFIED:20220505T195340Z
UID:5418-1654300800-1654473599@pop.toys
SUMMARY:Mega Toy Fair - Adelaide
DESCRIPTION:
URL:https://pop.toys/event/mega-toy-fair/
LOCATION:Adelaide Showgrounds\, Goodwood Rd Wayville\, SA 5034 Australia\, Adelaide Showgrounds\, Goodwood Rd\, Wayville\, South Australia\, 5034\, Australia
CATEGORIES:Pop Toys on Tour
ATTACH;FMTTYPE=image/png:https://pop.toys/wp-content/uploads/2020/03/Mega_Toy_Fair_2020.png
END:VEVENT
BEGIN:VEVENT
DTSTART;VALUE=DATE:20220501
DTEND;VALUE=DATE:20220502
DTSTAMP:20260424T000457
CREATED:20190327T161118Z
LAST-MODIFIED:20211019T153606Z
UID:5270-1651363200-1651449599@pop.toys
SUMMARY:Vintage and Modern Toy Fair - Melbourne
DESCRIPTION:
URL:https://pop.toys/event/4862-2-2-3-3-2/
LOCATION:Malvern Town Hall\, Cnr Glenferrie Rd & High St\, Malvern\, Victoria\, 3144\, Australia
CATEGORIES:Pop Toys on Tour
ATTACH;FMTTYPE=image/png:https://pop.toys/wp-content/uploads/2019/03/Vintage-and-Modern-Toy-Fair.png
END:VEVENT
BEGIN:VEVENT
DTSTART;VALUE=DATE:20220327
DTEND;VALUE=DATE:20220328
DTSTAMP:20260424T000457
CREATED:20190327T162350Z
LAST-MODIFIED:20211019T154702Z
UID:6887-1648339200-1648425599@pop.toys
SUMMARY:ComiXpo Melbourne
DESCRIPTION:
URL:https://pop.toys/event/comixpo_australia/
LOCATION:The Whitehorse Club and Convention Centre\, 298-336 Burwood Highway\, Burwood East\, VIC\, 3151\, Australia
CATEGORIES:Pop Toys on Tour
ATTACH;FMTTYPE=image/png:https://pop.toys/wp-content/uploads/2019/03/ComiXpo_01.png
END:VEVENT
BEGIN:VEVENT
DTSTART;VALUE=DATE:20220227
DTEND;VALUE=DATE:20220228
DTSTAMP:20260424T000457
CREATED:20190327T161118Z
LAST-MODIFIED:20211019T153419Z
UID:6868-1645920000-1646006399@pop.toys
SUMMARY:Vintage and Modern Toy Fair - Melbourne
DESCRIPTION:
URL:https://pop.toys/event/4862-2-2-3-3-2-2-2/
LOCATION:Malvern Town Hall\, Cnr Glenferrie Rd & High St\, Malvern\, Victoria\, 3144\, Australia
CATEGORIES:Pop Toys on Tour
ATTACH;FMTTYPE=image/png:https://pop.toys/wp-content/uploads/2019/03/Vintage-and-Modern-Toy-Fair.png
END:VEVENT
END:VCALENDAR